Workbook
Name _k4: IF(расчет!$F$9="F-777",Лист1!$B$12,IF(расчет!$F$9="F-793",Лист1!$B$13,IF(расчет!$F$9="F-793 с ручкой",Лист1!$B$14,Лист1!$B$1)))
Name _k6: IF(расчет!$H$9="F-993",Лист1!$B$8,IF(расчет!$H$9="F-993 с ручкой 2х200",Лист1!$B$9,IF(расчет!$H$9="F-993-L с ручкой 1000",Лист1!$B$10,IF(расчет!$H$9="F-993-R с ручкой 1000",Лист1!$B$11,Лист1!$B$1))))
Name к2: IF(расчет!$E$9="F-777",Лист1!$B$12,IF(расчет!$E$9="F-793",Лист1!$B$13,IF(расчет!$E$9="F-793 с ручкой",Лист1!$B$14,Лист1!$B$1)))
Name к3: IF(расчет!$G$9="F-993",Лист1!$B$8,IF(расчет!$G$9="F-993 с ручкой 2х200",Лист1!$B$9,IF(расчет!$G$9="F-993-L с ручкой 1000",Лист1!$B$10,IF(расчет!$G$9="F-993-R с ручкой 1000",Лист1!$B$11,Лист1!$B$1))))

Sheet Лист1
A2: F1-99
A3: F1-93
A4: F1-93 NEW
A5: F1-33 | B5: 5
A6: F1-33-S
A7: Z-A
A8: F-993
A9: F-993 с ручкой 2*200
A10: F-993-L с ручкой 1000мм
A11: F-993-R с ручкой 1000мм
A12: F-777
A13: F-793
A14: F-793 с ручкой
A15: Соединительный 7227 для F1-99
A16: Соединительный 7226 для F1-93, 993

Sheet расчет
B2: Дата заказа: | C2: =TODAY() -> 46310
B4: Заказ №:
B6: Заказчик:
F7: только с ручкой | H7: Только с ручкой
C8: серии F1-93-99; Z-A | D8: серии F1-93-99; Z-A | E8: серия 700 | F8: серия 700 | G8: серия 900 | H8: серия 900
B9: Тип профиля | C9: Z-A | D9: F1-99 | E9: F-793 | F9: F-793 с ручкой | G9: F-993 | H9: F-993-L с ручкой 1000
B10: Изображение профиля профиля
B11: Цвет профиля | C11: Латунь | D11: X-Black-Matt | E11: X-Black-Matt | F11: X-Black-Matt | G11: X-Black-Matt | H11: X-Black-Matt
B12: Высота А мм | C12: 910 | D12: 1800 | E12: 2095 | F12: 2000 | G12: 2095 | H12: 2095
B13: Ширина В мм | D13: 460 | E13: 471 | F13: 400 | G13: 471 | H13: 471
B14: Ширина В мм (только для Z-B) | C14: 446
B15: Соединительный профиль | G15: 7226 для F1-93/793/993
B16: Соединительный профиль (шт) | G16: 3
B17: Тип стекла (МФ) | C17: Стекло б/ц 4мм | D17: Стекло Графит (серое) тонированное в массе 4мм | E17: Стекло Графит (серое) тонированное в массе 4мм | F17: Стекло Графит (серое) тонированное в массе 4мм | H17: Стекло Графит (серое) тонированное в массе 4мм
B18: Тип стекла (Заказное)
B19: Стоимость заказного стелка руб/м2
B20: Расстояние Х1 мм
B21: Расстояние Х2 мм
B22: Расстояние У1 мм
B23: Расстояние У2 мм
B24: Расстояние Z1 мм
B25: Расстояние Z2 мм
B26: Кол-во петель (шт/компл) на 1 фасаде | C26: 3 | D26: 4 | E26: 1 | F26: 1 | G26: 2 | H26: 3
B27: Тип петли (стоимость петли не учитывается!!) | C27: Futurum | D27: Futurum | E27: Петля F-700 (L+R) | F27: Петля F-700 (L+R) | G27: Futurum | H27: Futurum
B28: Цвет уплотнителя | C28: Прозрачный | D28: Черный | E28: Черный | F28: Черный | G28: Черный | H28: Черный
B29: Количество фасадов (шт) | C29: 1 | D29: 1 | E29: 1 | G29: 2
B30: Сборка | C30: Да | D30: Да | E30: Да | F30: Да | G30: Нет | H30: Нет
B31: Упаковка короб (да/нет) | C31: Нет | D31: Нет | E31: Да | F31: Нет
B32: Упаковка короб (шт) | F32: 0 | J32: Итого
B33: Стоимость материалов (руб) | C33: =C42+C43+C45+C49+C51+C53+C55+C57 -> 3227.5393 | D33: =D42+D43+D45+D49+D51+D53+D55+D57 -> 3261.5815 | E33: =E42+E43+E45+E49+E51+E53+E55+E57 -> 5547.8601 | F33: =F42+F43+F45+F49+F51+F53+F55+F57 -> 0 | G33: =G42+G43+G45+G49+G51+G53+G55+G57 -> 11009.334 | H33: =H42+H43+H45+H49+H51+H53+H55+H57 -> 0 | I33: 0 | J33: =SUM(C33:H33)*(100%-I33) -> 23046.315
B34: Стоимость услуг (руб) | C34: =C59+C61+C63+C65+C67+C68+C70+C72+C73+C74+C75+C79+C81+C83+C77 -> 1577.2828 | D34: =D59+D61+D63+D65+D67+D68+D70+D72+D73+D74+D75+D79+D81+D83+D77 -> 2731.6385 | E34: =E59+E61+E63+E65+E67+E68+E70+E72+E73+E74+E75+E79+E81+E83+E77 -> 2746.8716 | F34: =F59+F61+F63+F65+F67+F68+F70+F72+F73+F74+F75+F79+F81+F83+F77 -> 0 | G34: =G59+G61+G63+G65+G67+G68+G70+G72+G73+G74+G75+G79+G81+G83+G77 -> 4046 | H34: =H59+H61+H63+H65+H67+H68+H70+H72+H73+H74+H75+H79+H81+H83+H77 -> 0 | I34: 0 | J34: =SUM(C34:H34)*(100%-I34) -> 11101.793
B35: Итого (руб) | C35: =SUM(C33:C34) -> 4804.8221 | D35: =SUM(D33:D34) -> 5993.22 | E35: =SUM(E33:E34) -> 8294.7317 | F35: =SUM(F33:F34) -> 0 | G35: =SUM(G33:G34) -> 15055.334 | H35: =SUM(H33:H34) -> 0 | I35: 0 | J35: =SUM(J33:J34) -> 34148.108
C36: =заявка!C12 -> 893х358 | D36: =заявка!D12 -> 1771х432 | E36: =заявка!E12 -> 2088х464 | F36: =заявка!F12 -> 1993х393 | G36: =заявка!G12 | H36: =заявка!H12 -> 2088х464
C38: стандартная серия | D38: стандартная серия | E38: 700 серия | F38: 700 серия | G38: 900 серия | H38: 900 серия | I38: примечания
B39: Стекло (Высота, мм) | C39: =C$12+VLOOKUP(C9,$B$137:$D$149,2,FALSE) -> 893 | D39: =D$12+VLOOKUP(D9,$B$137:$D$149,2,FALSE) -> 1771 | E39: =E$12+VLOOKUP(E9,$B$137:$D$149,2,FALSE) -> 2088 | F39: =F$12+VLOOKUP(F9,$B$137:$D$149,2,FALSE) -> 1993 | G39: =G$12+VLOOKUP(G9,$B$137:$D$149,2,FALSE) -> 2088 | H39: =H$12+VLOOKUP(H9,$B$137:$D$149,2,FALSE) -> 2088
B40: Стекло (Ширина, мм) | C40: =IF(C$9<>"Z-A",(C$13+VLOOKUP(C$9,$B$137:$D$149,3,FALSE)),(C$14+VLOOKUP(C9,$B$137:$D$149,3,FALSE))) -> 358 | D40: =IF(D$9<>"Z-A",(D$13+VLOOKUP(D$9,$B$137:$D$149,3,FALSE)),(D$14+VLOOKUP(D9,$B$137:$D$149,3,FALSE))) -> 432 | E40: =IF(E$9<>"Z-A",(E$13+VLOOKUP(E$9,$B$137:$D$149,3,FALSE)),(E$14+VLOOKUP(E9,$B$137:$D$149,3,FALSE))) -> 464 | F40: =IF(F$9<>"Z-A",(F$13+VLOOKUP(F$9,$B$137:$D$149,3,FALSE)),(F$14+VLOOKUP(F9,$B$137:$D$149,3,FALSE))) -> 393 | G40: =IF(G$9<>"Z-A",(G$13+VLOOKUP(G$9,$B$137:$D$149,3,FALSE)),(G$14+VLOOKUP(G9,$B$137:$D$149,3,FALSE))) -> 464 | H40: =IF(H$9<>"Z-A",(H$13+VLOOKUP(H$9,$B$137:$D$149,3,FALSE)),(H$14+VLOOKUP(H9,$B$137:$D$149,3,FALSE))) -> 464
B41: Стекло (м2) | C41: =(C$39*C$40)/1000000*C$29 -> 0.319694 | D41: =(D$39*D$40)/1000000*D$29 -> 0.765072 | E41: =(E$39*E$40)/1000000*E$29 -> 0.968832 | F41: =(F$39*F$40)/1000000*F$29 -> 0 | G41: =(G$39*G$40)/1000000*G$29 -> 1.937664 | H41: =(H$39*H$40)/1000000*H$29 -> 0 | I41: А если клиент хочет разное стекло на вставки? Или вставки разного размера по высоте?
B42: Стекло МФ (руб) | C42: =IFERROR(C41*VLOOKUP(C17,$B$216:$C$222,2,FALSE),0) -> 232.25769 | D42: =IFERROR(D41*VLOOKUP(D17,$B$216:$C$222,2,FALSE),0) -> 1318.7699 | E42: =IFERROR(E41*VLOOKUP(E17,$B$216:$C$222,2,FALSE),0) -> 1669.9951 | F42: =IFERROR(F41*VLOOKUP(F17,$B$216:$C$222,2,FALSE),0) -> 0 | G42: =IFERROR(G41*VLOOKUP(G17,$B$216:$C$222,2,FALSE),0) -> 0 | H42: =IFERROR(H41*VLOOKUP(H17,$B$216:$C$222,2,FALSE),0) -> 0
B43: Стекло заказное (руб) | C43: =IFERROR(C41*VLOOKUP(C18,$B$223:$C$231,2,FALSE),0) -> 0 | D43: =IFERROR(D41*VLOOKUP(D18,$B$223:$C$231,2,FALSE),0) -> 0 | E43: =IFERROR(E41*VLOOKUP(E18,$B$223:$C$231,2,FALSE),0) -> 0 | F43: =IFERROR(F41*VLOOKUP(F18,$B$223:$C$231,2,FALSE),0) -> 0 | G43: =IFERROR(G41*VLOOKUP(G18,$B$223:$C$231,2,FALSE),0) -> 0 | H43: =IFERROR(H41*VLOOKUP(H18,$B$223:$C$231,2,FALSE),0) -> 0
B44: Уплотнитель (мп) | C44: =IF(C29>0,ROUND(((C$39+C$40)*2/1000+(C$40/1000*C$16*2))*C$29,2),0) -> 2.5 | D44: =IF(D29>0,ROUND(((D$39+D$40)*2/1000+(D$40/1000*D$16*2))*D$29,2),0) -> 4.41 | E44: =IF(E29>0,ROUND(((E$39+E$40)*2/1000+(E$40/1000*E$16*2))*E$29,2),0) -> 5.1 | F44: =IF(F29>0,ROUND(((F$39+F$40)*2/1000+(F$40/1000*F$16*2))*F$29,2),0) -> 0 | G44: =IF(G29>0,ROUND(((G$39+G$40)*2/1000+(G$40/1000*G$16*2))*G$29,2),0) -> 15.78 | H44: =IF(H29>0,ROUND(((H$39+H$40)*2/1000+(H$40/1000*H$16*2))*H$29,2),0) -> 0 | I44: учел уплотнитль с 2 сторон соединителя
...

Sheet заявка
B1: Заявка к заказу №: | C1: =расчет!C4 -> 0
B2: Дата: | C2: =расчет!C2 -> 46310
B3: Заказчик: | C3: =расчет!C6 -> 0
B5: Профиль | C5: =CONCATENATE(расчет!C9," ",расчет!C11) -> Z-A Латунь | D5: =CONCATENATE(расчет!D9," ",расчет!D11) -> F1-99 X-Black-Matt | E5: =CONCATENATE(расчет!E9," ",расчет!E11) -> F-793 X-Black-Matt | F5: =CONCATENATE(расчет!F9," ",расчет!F11) -> F-793 с ручкой X-Black-Matt | G5: =CONCATENATE(расчет!G9," ",расчет!G11) -> F-993 X-Black-Matt | H5: =CONCATENATE(расчет!H9," ",расчет!H11) -> F-993-L с ручкой 1000 X-Black-Matt
B6: Изображение профиля профиля
B7: Профиль F серии | C7: =IF(расчет!C46=0,"",CONCATENATE(расчет!C46,"м.п.")) | D7: =IF(расчет!D46=0,"",CONCATENATE(расчет!D46,"м.п.")) -> 4,52м.п. | E7: =IF(расчет!E46=0,"",CONCATENATE(расчет!E46,"м.п.")) -> 5,132м.п. | F7: =IF(расчет!F46=0,"",CONCATENATE(расчет!F46,"м.п.")) | G7: =IF(расчет!G46=0,"",CONCATENATE(расчет!G46,"м.п.")) -> 10,264м.п. | H7: =IF(расчет!H46=0,"",CONCATENATE(расчет!H46,"м.п."))
B8: Профиль Z-A | C8: =IF(расчет!C47=0,"",CONCATENATE(расчет!C47,"м.п.")) -> 1,82м.п. | D8: =IF(расчет!D47=0,"",CONCATENATE(расчет!D47,"м.п.")) | E8: =IF(расчет!E47=0,"",CONCATENATE(расчет!E47,"м.п.")) | F8: =IF(расчет!F47=0,"",CONCATENATE(расчет!F47,"м.п.")) | G8: =IF(расчет!G47=0,"",CONCATENATE(расчет!G47,"м.п.")) | H8: =IF(расчет!H47=0,"",CONCATENATE(расчет!H47,"м.п."))
B9: Профиль Z-B | C9: =IF(расчет!C9="Z-A",CONCATENATE(расчет!C29*2,"шт."),"") -> 2шт. | D9: =IF(расчет!D9="Z-A",CONCATENATE(расчет!D29*2,"шт."),"") | E9: =IF(расчет!E9="Z-A",CONCATENATE(расчет!E29*2,"шт."),"") | F9: =IF(расчет!F9="Z-A",CONCATENATE(расчет!F29*2,"шт."),"") | G9: =IF(расчет!G9="Z-A",CONCATENATE(расчет!G29*2,"шт."),"") | H9: =IF(расчет!H9="Z-A",CONCATENATE(расчет!H29*2,"шт."),"")
B10: Профиль соединительный | C10: =IF(расчет!C16>0,CONCATENATE(расчет!C15," ",расчет!C11),"") | D10: =IF(расчет!D16>0,CONCATENATE(расчет!D15," ",расчет!D11),"") | E10: =IF(расчет!E16>0,CONCATENATE(расчет!E15," ",расчет!E11),"") | F10: =IF(расчет!F16>0,CONCATENATE(расчет!F15," ",расчет!F11),"") | G10: =IF(расчет!G16>0,CONCATENATE(расчет!G15," ",расчет!G11),"") -> 7226 для F1-93/793/993 X-Black-Matt | H10: =IF(расчет!H16>0,CONCATENATE(расчет!H15," ",расчет!H11),"")
B11: Стекло МФ Размер (ВхШ) | C11: =IF(расчет!C17=0,IF(расчет!C18=0,"",расчет!C18),расчет!C17) -> Стекло б/ц 4мм | D11: =IF(расчет!D17=0,IF(расчет!D18=0,"",расчет!D18),расчет!D17) -> Стекло Графит (серое) тонированное в массе 4мм | E11: =IF(расчет!E17=0,IF(расчет!E18=0,"",расчет!E18),расчет!E17) -> Стекло Графит (серое) тонированное в массе 4мм | F11: =IF(расчет!F17=0,IF(расчет!F18=0,"",расчет!F18),расчет!F17) -> Стекло Графит (серое) тонированное в массе 4мм | G11: =IF(расчет!G17=0,IF(расчет!G18=0,"",расчет!G18),расчет!G17) | H11: =IF(расчет!H17=0,IF(расчет!H18=0,"",расчет!H18),расчет!H17) -> Стекло Графит (серое) тонированное в массе 4мм
C12: =IF(OR(C11=0,C11=""),"",CONCATENATE(расчет!C39,"х",расчет!C40)) -> 893х358 | D12: =IF(OR(D11=0,D11=""),"",CONCATENATE(расчет!D39,"х",расчет!D40)) -> 1771х432 | E12: =IF(OR(E11=0,E11=""),"",CONCATENATE(расчет!E39,"х",расчет!E40)) -> 2088х464 | F12: =IF(OR(F11=0,F11=""),"",CONCATENATE(расчет!F39,"х",расчет!F40)) -> 1993х393 | G12: =IF(OR(G11=0,G11=""),"",CONCATENATE(расчет!G39,"х",расчет!G40)) | H12: =IF(OR(H11=0,H11=""),"",CONCATENATE(расчет!H39,"х",расчет!H40)) -> 2088х464
B13: Уплотнитель | C13: =IF(расчет!C44=0,"",расчет!C28) -> Прозрачный | D13: =IF(расчет!D44=0,"",расчет!D28) -> Черный | E13: =IF(расчет!E44=0,"",расчет!E28) -> Черный | F13: =IF(расчет!F44=0,"",расчет!F28) | G13: =IF(расчет!G44=0,"",расчет!G28) -> Черный | H13: =IF(расчет!H44=0,"",расчет!H28)
C14: =IF(расчет!C44=0,"",CONCATENATE(расчет!C44,"м.п.")) -> 2,5м.п. | D14: =IF(расчет!D44=0,"",CONCATENATE(расчет!D44,"м.п.")) -> 4,41м.п. | E14: =IF(расчет!E44=0,"",CONCATENATE(расчет!E44,"м.п.")) -> 5,1м.п. | F14: =IF(расчет!F44=0,"",CONCATENATE(расчет!F44,"м.п.")) | G14: =IF(расчет!G44=0,"",CONCATENATE(расчет!G44,"м.п.")) -> 15,78м.п. | H14: =IF(расчет!H44=0,"",CONCATENATE(расчет!H44,"м.п."))
B15: Уголок сборочный | C15: =IF(расчет!C$56=0,"",CONCATENATE(VLOOKUP(расчет!C$9,расчет!$B$243:$D$254,3,FALSE),расчет!C56," шт.")) | D15: =IF(расчет!D$56=0,"",CONCATENATE(VLOOKUP(расчет!D$9,расчет!$B$243:$D$254,3,FALSE),расчет!D56," шт.")) -> F1-99, силумин, 4 шт. | E15: =IF(расчет!E$56=0,"",CONCATENATE(VLOOKUP(расчет!E$9,расчет!$B$243:$D$254,3,FALSE),расчет!E56," шт.")) -> F-700 (2L+2R), 1 шт. | F15: =IF(расчет!F$56=0,"",CONCATENATE(VLOOKUP(расчет!F$9,расчет!$B$243:$D$254,3,FALSE),расчет!F56," шт.")) | G15: =IF(расчет!G$56=0,"",CONCATENATE(VLOOKUP(расчет!G$9,расчет!$B$243:$D$254,3,FALSE),расчет!G56," шт.")) -> F1-99, силумин, 8 шт. | H15: =IF(расчет!H$56=0,"",CONCATENATE(VLOOKUP(расчет!H$9,расчет!$B$243:$D$254,3,FALSE),расчет!H56," шт."))
B16: Винт М4 | C16: =IF(расчет!C50=0,"",CONCATENATE(VLOOKUP(CONCATENATE(расчет!C$9,расчет!C$11),расчет!$B$161:$C$212,2,FALSE),", ",расчет!C50," шт.")) | D16: =IF(расчет!D50=0,"",CONCATENATE(VLOOKUP(CONCATENATE(расчет!D$9,расчет!D$11),расчет!$B$161:$C$212,2,FALSE),", ",расчет!D50," шт.")) -> Винт М4 х 8, потай, черный, 8 шт. | E16: =IF(расчет!E50=0,"",CONCATENATE(VLOOKUP(CONCATENATE(расчет!E$9,расчет!E$11),расчет!$B$161:$C$212,2,FALSE),", ",расчет!E50," шт.")) -> Винт М4 х 8, потай, черный, 12 шт. | F16: =IF(расчет!F50=0,"",CONCATENATE(VLOOKUP(CONCATENATE(расчет!F$9,расчет!F$11),расчет!$B$161:$C$212,2,FALSE),", ",расчет!F50," шт.")) | G16: =IF(расчет!G50=0,"",CONCATENATE(VLOOKUP(CONCATENATE(расчет!G$9,расчет!G$11),расчет!$B$161:$C$212,2,FALSE),", ",расчет!G50," шт.")) -> Винт М4 х 8, потай, черный, 28 шт. | H16: =IF(расчет!H50=0,"",CONCATENATE(VLOOKUP(CONCATENATE(расчет!H$9,расчет!H$11),расчет!$B$161:$C$212,2,FALSE),", ",расчет!H50," шт."))
B17: Коннектор для соединителя | C17: =IF(расчет!C16>0,CONCATENATE(расчет!C16*2,"шт"),"") | D17: =IF(расчет!D16>0,CONCATENATE(расчет!D16*2,"шт"),"") | E17: =IF(расчет!E16>0,CONCATENATE(расчет!E16*2,"шт"),"") | F17: =IF(расчет!F16>0,CONCATENATE(расчет!F16*2,"шт"),"") | G17: =IF(расчет!G16>0,CONCATENATE(расчет!G16*2,"шт"),"") -> 6шт | H17: =IF(расчет!H16>0,CONCATENATE(расчет!H16*2,"шт"),"")
B18: Саморез 3,5мм | C18: =IF(расчет!C54=0,"",CONCATENATE(VLOOKUP(CONCATENATE(расчет!C$9,расчет!C$11),расчет!$B$161:$C$212,2,FALSE),", ",расчет!C54," шт.")) -> Саморез 3,5х25 мм желтый для Z-B, 8 шт. | D18: =IF(расчет!D54=0,"",CONCATENATE(VLOOKUP(CONCATENATE(расчет!D$9,расчет!D$11),расчет!$B$161:$C$212,2,FALSE),", ",расчет!D54," шт.")) | E18: =IF(расчет!E54=0,"",CONCATENATE(VLOOKUP(CONCATENATE(расчет!E$9,расчет!E$11),расчет!$B$161:$C$212,2,FALSE),", ",расчет!E54," шт.")) | F18: =IF(расчет!F54=0,"",CONCATENATE(VLOOKUP(CONCATENATE(расчет!F$9,расчет!F$11),расчет!$B$161:$C$212,2,FALSE),", ",расчет!F54," шт.")) | G18: =IF(расчет!G54=0,"",CONCATENATE(VLOOKUP(CONCATENATE(расчет!G$9,расчет!G$11),расчет!$B$161:$C$212,2,FALSE),", ",расчет!G54," шт.")) | H18: =IF(расчет!H54=0,"",CONCATENATE(VLOOKUP(CONCATENATE(расчет!H$9,расчет!H$11),расчет!$B$161:$C$212,2,FALSE),", ",расчет!H54," шт."))
B19: Количество фасадов | C19: =расчет!C29 -> 1 | D19: =расчет!D29 -> 1 | E19: =расчет!E29 -> 1 | F19: =расчет!F29 -> 0 | G19: =расчет!G29 -> 2 | H19: =расчет!H29 -> 0
B24: Подпись | F24: ФИО

Sheet эскиз
A31: *Заполняется при не симметричном размещении петель!
A32: Тип открывания: | C32: правый
A33: Тип открывания: | C33: левый
