Workbook
Name _k4: IF(расчет!$F$9="F-777",Лист1!$B$12,IF(расчет!$F$9="F-793",Лист1!$B$13,IF(расчет!$F$9="F-793 с ручкой",Лист1!$B$14,Лист1!$B$1)))
Name _k6: IF(расчет!$H$9="F-993",Лист1!$B$8,IF(расчет!$H$9="F-993 с ручкой 2х200",Лист1!$B$9,IF(расчет!$H$9="F-993-L с ручкой 1000",Лист1!$B$10,IF(расчет!$H$9="F-993-R с ручкой 1000",Лист1!$B$11,Лист1!$B$1))))
Name к2: IF(расчет!$E$9="F-777",Лист1!$B$12,IF(расчет!$E$9="F-793",Лист1!$B$13,IF(расчет!$E$9="F-793 с ручкой",Лист1!$B$14,Лист1!$B$1)))
Name к3: IF(расчет!$G$9="F-993",Лист1!$B$8,IF(расчет!$G$9="F-993 с ручкой 2х200",Лист1!$B$9,IF(расчет!$G$9="F-993-L с ручкой 1000",Лист1!$B$10,IF(расчет!$G$9="F-993-R с ручкой 1000",Лист1!$B$11,Лист1!$B$1))))

Sheet Лист1
A2: F1-99
A3: F1-93
A4: F1-93 NEW
A5: F1-33 | B5: 5
A6: F1-33-S
A7: Z-A
A8: F-993
A9: F-993 с ручкой 2*200
A10: F-993-L с ручкой 1000мм
A11: F-993-R с ручкой 1000мм
A12: F-777
A13: F-793
A14: F-793 с ручкой
A15: Соединительный 7227 для F1-99
A16: Соединительный 7226 для F1-93, 993

Sheet расчет
B2: Дата заказа: | C2: =TODAY() -> 46310
B4: Заказ №:
B6: Заказчик:
F7: только с ручкой | H7: Только с ручкой
C8: серии F1-93-99; Z-A | D8: серии F1-93-99; Z-A | E8: серия 700 | F8: серия 700 | G8: серия 900 | H8: серия 900
B9: Тип профиля | C9: Z-A | D9: F1-99 | E9: F-793 | F9: F-793 с ручкой | G9: F-993 | H9: F-993-L с ручкой 1000
B10: Изображение профиля профиля
B11: Цвет профиля | C11: Латунь | D11: X-Black-Matt | E11: X-Black-Matt | F11: X-Black-Matt | G11: X-Black-Matt | H11: X-Black-Matt
B12: Высота А мм | C12: 910 | D12: 1800 | E12: 2095 | F12: 2000 | G12: 2095 | H12: 2095
B13: Ширина В мм | D13: 460 | E13: 471 | F13: 400 | G13: 471 | H13: 471
B14: Ширина В мм (только для Z-B) | C14: 446
B15: Соединительный профиль | G15: 7226 для F1-93/793/993
B16: Соединительный профиль (шт) | G16: 3
B17: Тип стекла (МФ) | C17: Стекло б/ц 4мм | D17: Стекло Графит (серое) тонированное в массе 4мм | E17: Стекло Графит (серое) тонированное в массе 4мм | F17: Стекло Графит (серое) тонированное в массе 4мм | H17: Стекло Графит (серое) тонированное в массе 4мм
B18: Тип стекла (Заказное)
B19: Стоимость заказного стелка руб/м2
B20: Расстояние Х1 мм
B21: Расстояние Х2 мм
B22: Расстояние У1 мм
B23: Расстояние У2 мм
B24: Расстояние Z1 мм
B25: Расстояние Z2 мм
B26: Кол-во петель (шт/компл) на 1 фасаде | C26: 3 | D26: 4 | E26: 1 | F26: 1 | G26: 2 | H26: 3
B27: Тип петли (стоимость петли не учитывается!!) | C27: Futurum | D27: Futurum | E27: Петля F-700 (L+R) | F27: Петля F-700 (L+R) | G27: Futurum | H27: Futurum
B28: Цвет уплотнителя | C28: Прозрачный | D28: Черный | E28: Черный | F28: Черный | G28: Черный | H28: Черный
B29: Количество фасадов (шт) | C29: 1 | D29: 1 | E29: 1 | G29: 2
B30: Сборка | C30: Да | D30: Да | E30: Да | F30: Да | G30: Нет | H30: Нет
B31: Упаковка короб (да/нет) | C31: Нет | D31: Нет | E31: Да | F31: Нет
B32: Упаковка короб (шт) | F32: 0 | J32: Итого
B33: Стоимость материалов (руб) | C33: =C42+C43+C45+C49+C51+C53+C55+C57 -> 3227.5393 | D33: =D42+D43+D45+D49+D51+D53+D55+D57 -> 3261.5815 | E33: =E42+E43+E45+E49+E51+E53+E55+E57 -> 5547.8601 | F33: =F42+F43+F45+F49+F51+F53+F55+F57 -> 0 | G33: =G42+G43+G45+G49+G51+G53+G55+G57 -> 11009.334 | H33: =H42+H43+H45+H49+H51+H53+H55+H57 -> 0 | I33: 0 | J33: =SUM(C33:H33)*(100%-I33) -> 23046.315
B34: Стоимость услуг (руб) | C34: =C59+C61+C63+C65+C67+C68+C70+C72+C73+C74+C75+C79+C81+C83+C77 -> 1577.2828 | D34: =D59+D61+D63+D65+D67+D68+D70+D72+D73+D74+D75+D79+D81+D83+D77 -> 2731.6385 | E34: =E59+E61+E63+E65+E67+E68+E70+E72+E73+E74+E75+E79+E81+E83+E77 -> 2746.8716 | F34: =F59+F61+F63+F65+F67+F68+F70+F72+F73+F74+F75+F79+F81+F83+F77 -> 0 | G34: =G59+G61+G63+G65+G67+G68+G70+G72+G73+G74+G75+G79+G81+G83+G77 -> 4046 | H34: =H59+H61+H63+H65+H67+H68+H70+H72+H73+H74+H75+H79+H81+H83+H77 -> 0 | I34: 0 | J34: =SUM(C34:H34)*(100%-I34) -> 11101.793
B35: Итого (руб) | C35: =SUM(C33:C34) -> 4804.8221 | D35: =SUM(D33:D34) -> 5993.22 | E35: =SUM(E33:E34) -> 8294.7317 | F35: =SUM(F33:F34) -> 0 | G35: =SUM(G33:G34) -> 15055.334 | H35: =SUM(H33:H34) -> 0 | I35: 0 | J35: =SUM(J33:J34) -> 34148.108
C36: =заявка!C12 -> 893х358 | D36: =заявка!D12 -> 1771х432 | E36: =заявка!E12 -> 2088х464 | F36: =заявка!F12 -> 1993х393 | G36: =заявка!G12 | H36: =заявка!H12 -> 2088х464
C38: стандартная серия | D38: стандартная серия | E38: 700 серия | F38: 700 серия | G38: 900 серия | H38: 900 серия | I38: примечания
B39: Стекло (Высота, мм) | C39: =C$12+VLOOKUP(C9,$B$137:$D$149,2,FALSE) -> 893 | D39: =D$12+VLOOKUP(D9,$B$137:$D$149,2,FALSE) -> 1771 | E39: =E$12+VLOOKUP(E9,$B$137:$D$149,2,FALSE) -> 2088 | F39: =F$12+VLOOKUP(F9,$B$137:$D$149,2,FALSE) -> 1993 | G39: =G$12+VLOOKUP(G9,$B$137:$D$149,2,FALSE) -> 2088 | H39: =H$12+VLOOKUP(H9,$B$137:$D$149,2,FALSE) -> 2088
B40: Стекло (Ширина, мм) | C40: =IF(C$9<>"Z-A",(C$13+VLOOKUP(C$9,$B$137:$D$149,3,FALSE)),(C$14+VLOOKUP(C9,$B$137:$D$149,3,FALSE))) -> 358 | D40: =IF(D$9<>"Z-A",(D$13+VLOOKUP(D$9,$B$137:$D$149,3,FALSE)),(D$14+VLOOKUP(D9,$B$137:$D$149,3,FALSE))) -> 432 | E40: =IF(E$9<>"Z-A",(E$13+VLOOKUP(E$9,$B$137:$D$149,3,FALSE)),(E$14+VLOOKUP(E9,$B$137:$D$149,3,FALSE))) -> 464 | F40: =IF(F$9<>"Z-A",(F$13+VLOOKUP(F$9,$B$137:$D$149,3,FALSE)),(F$14+VLOOKUP(F9,$B$137:$D$149,3,FALSE))) -> 393 | G40: =IF(G$9<>"Z-A",(G$13+VLOOKUP(G$9,$B$137:$D$149,3,FALSE)),(G$14+VLOOKUP(G9,$B$137:$D$149,3,FALSE))) -> 464 | H40: =IF(H$9<>"Z-A",(H$13+VLOOKUP(H$9,$B$137:$D$149,3,FALSE)),(H$14+VLOOKUP(H9,$B$137:$D$149,3,FALSE))) -> 464
B41: Стекло (м2) | C41: =(C$39*C$40)/1000000*C$29 -> 0.319694 | D41: =(D$39*D$40)/1000000*D$29 -> 0.765072 | E41: =(E$39*E$40)/1000000*E$29 -> 0.968832 | F41: =(F$39*F$40)/1000000*F$29 -> 0 | G41: =(G$39*G$40)/1000000*G$29 -> 1.937664 | H41: =(H$39*H$40)/1000000*H$29 -> 0 | I41: А если клиент хочет разное стекло на вставки? Или вставки разного размера по высоте?
B42: Стекло МФ (руб) | C42: =IFERROR(C41*VLOOKUP(C17,$B$216:$C$222,2,FALSE),0) -> 232.25769 | D42: =IFERROR(D41*VLOOKUP(D17,$B$216:$C$222,2,FALSE),0) -> 1318.7699 | E42: =IFERROR(E41*VLOOKUP(E17,$B$216:$C$222,2,FALSE),0) -> 1669.9951 | F42: =IFERROR(F41*VLOOKUP(F17,$B$216:$C$222,2,FALSE),0) -> 0 | G42: =IFERROR(G41*VLOOKUP(G17,$B$216:$C$222,2,FALSE),0) -> 0 | H42: =IFERROR(H41*VLOOKUP(H17,$B$216:$C$222,2,FALSE),0) -> 0
B43: Стекло заказное (руб) | C43: =IFERROR(C41*VLOOKUP(C18,$B$223:$C$231,2,FALSE),0) -> 0 | D43: =IFERROR(D41*VLOOKUP(D18,$B$223:$C$231,2,FALSE),0) -> 0 | E43: =IFERROR(E41*VLOOKUP(E18,$B$223:$C$231,2,FALSE),0) -> 0 | F43: =IFERROR(F41*VLOOKUP(F18,$B$223:$C$231,2,FALSE),0) -> 0 | G43: =IFERROR(G41*VLOOKUP(G18,$B$223:$C$231,2,FALSE),0) -> 0 | H43: =IFERROR(H41*VLOOKUP(H18,$B$223:$C$231,2,FALSE),0) -> 0
B44: Уплотнитель (мп) | C44: =IF(C29>0,ROUND(((C$39+C$40)*2/1000+(C$40/1000*C$16*2))*C$29,2),0) -> 2.5 | D44: =IF(D29>0,ROUND(((D$39+D$40)*2/1000+(D$40/1000*D$16*2))*D$29,2),0) -> 4.41 | E44: =IF(E29>0,ROUND(((E$39+E$40)*2/1000+(E$40/1000*E$16*2))*E$29,2),0) -> 5.1 | F44: =IF(F29>0,ROUND(((F$39+F$40)*2/1000+(F$40/1000*F$16*2))*F$29,2),0) -> 0 | G44: =IF(G29>0,ROUND(((G$39+G$40)*2/1000+(G$40/1000*G$16*2))*G$29,2),0) -> 15.78 | H44: =IF(H29>0,ROUND(((H$39+H$40)*2/1000+(H$40/1000*H$16*2))*H$29,2),0) -> 0 | I44: учел уплотнитль с 2 сторон соединителя
B45: Уплотнитель (руб) | C45: =C44*$C$235 -> 57.4 | D45: =D44*$C$235 -> 101.2536 | E45: =E44*$C$235 -> 117.096 | F45: =F44*$C$235 -> 0 | G45: =G44*$C$235 -> 362.3088 | H45: =H44*$C$235 -> 0
B46: Профиль F (мп) | C46: =IF(C9<>"Z-A",(C$12+C$13)*2*C$29/1000,0) -> 0 | D46: =IF(D9<>"Z-A",(D$12+D$13)*2*D$29/1000,0) -> 4.52 | E46: =IF(E9<>"Z-A",(E$12+E$13)*2*E$29/1000,0) -> 5.132 | F46: =IF(F9<>"Z-A",(F$12+F$13)*2*F$29/1000,0) -> 0 | G46: =IF(G9<>"Z-A",(G$12+G$13)*2*G$29/1000,0) -> 10.264 | H46: =IF(H9<>"Z-A",(H$12+H$13)*2*H$29/1000,0) -> 0
B47: Профиль Z-A (мп) | C47: =IF(C9="Z-A",C$12*2*C$29/1000,0) -> 1.82 | D47: =IF(D9="Z-A",D$12*2*D$29/1000,0) -> 0 | E47: =IF(E9="Z-A",E$12*2*E$29/1000,0) -> 0 | F47: =IF(F9="Z-A",F$12*2*F$29/1000,0) -> 0 | G47: =IF(G9="Z-A",G$12*2*G$29/1000,0) -> 0 | H47: =IF(H9="Z-A",H$12*2*H$29/1000,0) -> 0
B48: Соединитель (мп) | C48: =C$13/1000*C$16 -> 0 | D48: =D$13/1000*D$16 -> 0 | E48: =E$13/1000*E$16 -> 0 | F48: =F$13/1000*F$16 -> 0 | G48: =G$13/1000*G$16 -> 1.413 | H48: =H$13/1000*H$16 -> 0
B49: Профиль (руб) | C49: =IFERROR(IF(C$9<>"Z-A",C$46*VLOOKUP(CONCATENATE(C$9,C$11),$B$277:$C$353,2,FALSE)+IFERROR(C$48*VLOOKUP(CONCATENATE(C$15,C$11),$B$277:$C$353,2,FALSE),0),(C$47*VLOOKUP(CONCATENATE(C$9,C$11),$B$277:$C$353,2,FALSE)+C$29*2*VLOOKUP(CONCATENATE("Z-B",C$11,C$14),$B$277:$C$353,2,FALSE))),0) -> 2931.0816 | D49: =IFERROR(IF(D$9<>"Z-A",D$46*VLOOKUP(CONCATENATE(D$9,D$11),$B$277:$C$353,2,FALSE)+IFERROR(D$48*VLOOKUP(CONCATENATE(D$15,D$11),$B$277:$C$353,2,FALSE),0),(D$47*VLOOKUP(CONCATENATE(D$9,D$11),$B$277:$C$353,2,FALSE)+D$29*2*VLOOKUP(CONCATENATE("Z-B",D$11,D$14),$B$277:$C$353,2,FALSE))),0) -> 1555.558 | E49: =IFERROR(IF(E$9<>"Z-A",E$46*VLOOKUP(CONCATENATE(E$9,E$11),$B$277:$C$353,2,FALSE)+IFERROR(E$48*VLOOKUP(CONCATENATE(E$15,E$11),$B$277:$C$353,2,FALSE),0),(E$47*VLOOKUP(CONCATENATE(E$9,E$11),$B$277:$C$353,2,FALSE)+E$29*2*VLOOKUP(CONCATENATE("Z-B",E$11,E$14),$B$277:$C$353,2,FALSE))),0) -> 3182.969 | F49: =IFERROR(IF(F$9<>"Z-A",F$46*VLOOKUP(CONCATENATE(F$9,F$11),$B$277:$C$353,2,FALSE)+IFERROR(F$48*VLOOKUP(CONCATENATE(F$15,F$11),$B$277:$C$353,2,FALSE),0),(F$47*VLOOKUP(CONCATENATE(F$9,F$11),$B$277:$C$353,2,FALSE)+F$29*2*VLOOKUP(CONCATENATE("Z-B",F$11,F$14),$B$277:$C$353,2,FALSE))),0) -> 0 | G49: =IFERROR(IF(G$9<>"Z-A",G$46*VLOOKUP(CONCATENATE(G$9,G$11),$B$277:$C$353,2,FALSE)+IFERROR(G$48*VLOOKUP(CONCATENATE(G$15,G$11),$B$277:$C$353,2,FALSE),0),(G$47*VLOOKUP(CONCATENATE(G$9,G$11),$B$277:$C$353,2,FALSE)+G$29*2*VLOOKUP(CONCATENATE("Z-B",G$11,G$14),$B$277:$C$353,2,FALSE))),0) -> 9586.6251 | H49: =IFERROR(IF(H$9<>"Z-A",H$46*VLOOKUP(CONCATENATE(H$9,H$11),$B$277:$C$353,2,FALSE)+IFERROR(H$48*VLOOKUP(CONCATENATE(H$15,H$11),$B$277:$C$353,2,FALSE),0),(H$47*VLOOKUP(CONCATENATE(H$9,H$11),$B$277:$C$353,2,FALSE)+H$29*2*VLOOKUP(CONCATENATE("Z-B",H$11,H$14),$B$277:$C$353,2,FALSE))),0) -> 0 | I49: учел метраж соединителя
B50: Винт М4 (шт) | C50: =IF(C$56>0,C$56*2+C$16*4,0) -> 0 | D50: =IF(D$56>0,D$56*2+D$16*4,0) -> 8 | E50: =IF(E$56>0,E$56*12+E$16*4,0) -> 12 | F50: =IF(F$56>0,F$56*12+F$16*4,0) -> 0 | G50: =IF(G$56>0,G$56*2+G$16*4,0) -> 28 | H50: =IF(H$56>0,H$56*2+H$16*4,0) -> 0 | I50: учел F-700 серию (12 винтов на фасад); учел по 4 винта на соединитель
B51: Винт М4 (руб) | C51: =IFERROR(VLOOKUP(VLOOKUP(CONCATENATE(C$9,C$11),$B$161:$C$212,2,FALSE),$B$236:$C$242,2,FALSE)*C$50,0) -> 0 | D51: =IFERROR(VLOOKUP(VLOOKUP(CONCATENATE(D$9,D$11),$B$161:$C$212,2,FALSE),$B$236:$C$242,2,FALSE)*D$50,0) -> 5.6 | E51: =IFERROR(VLOOKUP(VLOOKUP(CONCATENATE(E$9,E$11),$B$161:$C$212,2,FALSE),$B$236:$C$242,2,FALSE)*E$50,0) -> 8.4 | F51: =IFERROR(VLOOKUP(VLOOKUP(CONCATENATE(F$9,F$11),$B$161:$C$212,2,FALSE),$B$236:$C$242,2,FALSE)*F$50,0) -> 0 | G51: =IFERROR(VLOOKUP(VLOOKUP(CONCATENATE(G$9,G$11),$B$161:$C$212,2,FALSE),$B$236:$C$242,2,FALSE)*G$50,0) -> 19.6 | H51: =IFERROR(VLOOKUP(VLOOKUP(CONCATENATE(H$9,H$11),$B$161:$C$212,2,FALSE),$B$236:$C$242,2,FALSE)*H$50,0) -> 0
B52: Коннектор для соединителя 7226/7227 (шт) | C52: =IF(C$16>0,C$16*2,0) -> 0 | D52: =IF(D$16>0,D$16*2,0) -> 0 | E52: =IF(E$16>0,E$16*2,0) -> 0 | F52: =IF(F$16>0,F$16*2,0) -> 0 | G52: =IF(G$16>0,G$16*2,0) -> 6 | H52: =IF(H$16>0,H$16*2,0) -> 0 | I52: учел по 2 коннектора на соединитель
B53: Коннектор для соединителя 7226/7227 (руб) | C53: =C52*$C$239 -> 0 | D53: =D52*$C$239 -> 0 | E53: =E52*$C$239 -> 0 | F53: =F52*$C$239 -> 0 | G53: =G52*$C$239 -> 480 | H53: =H52*$C$239 -> 0
B54: Саморез 3,5мм (шт) | C54: =IF(C$56>0,0,IF(C$9="Z-A",C$29*8,0)) -> 8 | D54: =IF(D$56>0,0,IF(D$9="Z-A",D$29*8,0)) -> 0 | E54: =IF(E$56>0,0,IF(E$9="Z-A",E$29*8,0)) -> 0 | F54: =IF(F$56>0,0,IF(F$9="Z-A",F$29*8,0)) -> 0 | G54: =IF(G$56>0,0,IF(G$9="Z-A",G$29*8,0)) -> 0 | H54: =IF(H$56>0,0,IF(H$9="Z-A",H$29*8,0)) -> 0
B55: Саморез 3,5мм (руб) | C55: =IFERROR(VLOOKUP(VLOOKUP(CONCATENATE(C$9,C$11),$B$161:$C$212,2,FALSE),$B$236:$C$242,2,FALSE)*C$54,0) -> 6.8 | D55: =IFERROR(VLOOKUP(VLOOKUP(CONCATENATE(D$9,D$11),$B$161:$C$212,2,FALSE),$B$236:$C$242,2,FALSE)*D$54,0) -> 0 | E55: =IFERROR(VLOOKUP(VLOOKUP(CONCATENATE(E$9,E$11),$B$161:$C$212,2,FALSE),$B$236:$C$242,2,FALSE)*E$54,0) -> 0 | F55: =IFERROR(VLOOKUP(VLOOKUP(CONCATENATE(F$9,F$11),$B$161:$C$212,2,FALSE),$B$236:$C$242,2,FALSE)*F$54,0) -> 0 | G55: =IFERROR(VLOOKUP(VLOOKUP(CONCATENATE(G$9,G$11),$B$161:$C$212,2,FALSE),$B$236:$C$242,2,FALSE)*G$54,0) -> 0 | H55: =IFERROR(VLOOKUP(VLOOKUP(CONCATENATE(H$9,H$11),$B$161:$C$212,2,FALSE),$B$236:$C$242,2,FALSE)*H$54,0) -> 0
B56: Уголок сборочный (шт) | C56: =IF(C$29>0,IF(C$9<>"Z-A",C$29*4,0),0) -> 0 | D56: =IF(D$29>0,IF(D$9<>"Z-A",D$29*4,0),0) -> 4 | E56: =IF(E$29>0,IF(E$9<>"Z-A",E$29*1,0),0) -> 1 | F56: =IF(F$29>0,IF(F$9<>"Z-A",F$29*1,0),0) -> 0 | G56: =IF(G$29>0,IF(G$9<>"Z-A",G$29*4,0),0) -> 8 | H56: =IF(H$29>0,IF(H$9<>"Z-A",H$29*4,0),0) -> 0 | I56: учел F-700 серию (комплект уголков х4шт на фасад)
B57: Уголок сборочный (руб) | C57: =IFERROR(C$56*VLOOKUP(C$9,$B$243:$C$254,2,FALSE),0) -> 0 | D57: =IFERROR(D$56*VLOOKUP(D$9,$B$243:$C$254,2,FALSE),0) -> 280.4 | E57: =IFERROR(E$56*VLOOKUP(E$9,$B$243:$C$254,2,FALSE),0) -> 569.4 | F57: =IFERROR(F$56*VLOOKUP(F$9,$B$243:$C$254,2,FALSE),0) -> 0 | G57: =IFERROR(G$56*VLOOKUP(G$9,$B$243:$C$254,2,FALSE),0) -> 560.8 | H57: =IFERROR(H$56*VLOOKUP(H$9,$B$243:$C$254,2,FALSE),0) -> 0
B58: Сборка рамки из алюминиевого профиля (шт) | C58: =IF(C$30="да",C$29,0) -> 1 | D58: =IF(D$30="да",D$29,0) -> 1 | E58: =IF(E$30="да",E$29,0) -> 1 | F58: =IF(F$30="да",F$29,0) -> 0 | G58: =IF(G$30="да",G$29,0) -> 0 | H58: =IF(H$30="да",H$29,0) -> 0
B59: Сборка рамки из алюминиевого профиля (руб) | C59: =VLOOKUP($B59,$B$258:$C$273,2,FALSE)*C$58 -> 528 | D59: =VLOOKUP($B59,$B$258:$C$273,2,FALSE)*D$58 -> 528 | E59: =VLOOKUP($B59,$B$258:$C$273,2,FALSE)*E$58 -> 528 | F59: =VLOOKUP($B59,$B$258:$C$273,2,FALSE)*F$58 -> 0 | G59: =VLOOKUP($B59,$B$258:$C$273,2,FALSE)*G$58 -> 0 | H59: =VLOOKUP($B59,$B$258:$C$273,2,FALSE)*H$58 -> 0 | I59: есть ли разница в стоимости сборки стандарного и 700 серии?
B60: Установка вставки в рамочный фасад (шт) | C60: =IF(C$30="да",C$29+C$16,0) -> 1 | D60: =IF(D$30="да",D$29+D$16,0) -> 1 | E60: =IF(E$30="да",E$29+E$16,0) -> 1 | F60: =IF(F$30="да",F$29+F$16,0) -> 0 | G60: =IF(G$30="да",G$29+G$16,0) -> 0 | H60: =IF(H$30="да",H$29+H$16,0) -> 0 | I60: учел количество вставок при использовании соединителя
B61: Установка вставки в рамочный фасад (руб) | C61: =VLOOKUP($B61,$B$258:$C$273,2,FALSE)*C$60 -> 250 | D61: =VLOOKUP($B61,$B$258:$C$273,2,FALSE)*D$60 -> 250 | E61: =VLOOKUP($B61,$B$258:$C$273,2,FALSE)*E$60 -> 250 | F61: =VLOOKUP($B61,$B$258:$C$273,2,FALSE)*F$60 -> 0 | G61: =VLOOKUP($B61,$B$258:$C$273,2,FALSE)*G$60 -> 0 | H61: =VLOOKUP($B61,$B$258:$C$273,2,FALSE)*H$60 -> 0
B62: Резка стекла прямолинейная (мп) | C62: =IF(C$30="Да",ROUND((C$39*2+C$40*2+C$40*C$16*2)/1000*C$29,2),0) -> 2.5 | D62: =IF(D$30="Да",ROUND((D$39*2+D$40*2+D$40*D$16*2)/1000*D$29,2),0) -> 4.41 | E62: =IF(E$30="Да",ROUND((E$39*2+E$40*2+E$40*E$16*2)/1000*E$29,2),0) -> 5.1 | F62: =IF(F$30="Да",ROUND((F$39*2+F$40*2+F$40*F$16*2)/1000*F$29,2),0) -> 0 | G62: =IF(G$30="Да",ROUND((G$39*2+G$40*2+G$40*G$16*2)/1000*G$29,2),0) -> 0 | H62: =IF(H$30="Да",ROUND((H$39*2+H$40*2+H$40*H$16*2)/1000*H$29,2),0) -> 0 | I62: учел количество резки при использовании соединителя
B63: Резка стекла прямолинейная (руб) | C63: =C$62*VLOOKUP($B63,$B$258:$C$273,2,FALSE) -> 192.5 | D63: =D$62*VLOOKUP($B63,$B$258:$C$273,2,FALSE) -> 339.57 | E63: =E$62*VLOOKUP($B63,$B$258:$C$273,2,FALSE) -> 392.7 | F63: =F$62*VLOOKUP($B63,$B$258:$C$273,2,FALSE) -> 0 | G63: =G$62*VLOOKUP($B63,$B$258:$C$273,2,FALSE) -> 0 | H63: =H$62*VLOOKUP($B63,$B$258:$C$273,2,FALSE) -> 0
B64: Шлифование торца стекла (4-5 мм) (мп) | C64: =IF(C$30="Да",ROUND((C$39*2+C$40*2+C$40*C$16*2)/1000,2),0) -> 2.5 | D64: =IF(D$30="Да",ROUND((D$39*2+D$40*2+D$40*D$16*2)/1000,2),0) -> 4.41 | E64: =IF(E$30="Да",ROUND((E$39*2+E$40*2+E$40*E$16*2)/1000,2),0) -> 5.1 | F64: =IF(F$30="Да",ROUND((F$39*2+F$40*2+F$40*F$16*2)/1000,2),0) -> 4.77 | G64: =IF(G$30="Да",ROUND((G$39*2+G$40*2+G$40*G$16*2)/1000,2),0) -> 0 | H64: =IF(H$30="Да",ROUND((H$39*2+H$40*2+H$40*H$16*2)/1000,2),0) -> 0 | I64: учел количество шлифовки при использовании соединителя
B65: Шлифование торца стекла (4-5 мм) (руб) | C65: =C$64*VLOOKUP($B65,$B$258:$C$273,2,FALSE) -> 0 | D65: =D$64*VLOOKUP($B65,$B$258:$C$273,2,FALSE) -> 0 | E65: =E$64*VLOOKUP($B65,$B$258:$C$273,2,FALSE) -> 0 | F65: =F$64*VLOOKUP($B65,$B$258:$C$273,2,FALSE) -> 0 | G65: =G$64*VLOOKUP($B65,$B$258:$C$273,2,FALSE) -> 0 | H65: =H$64*VLOOKUP($B65,$B$258:$C$273,2,FALSE) -> 0
B66: Фрезеровка под петлю (шт) | C66: =C$26*C$29 -> 3 | D66: =D$26*D$29 -> 4 | E66: =E$26*E$29 -> 1 | F66: =F$26*F$29 -> 0 | G66: =G$26*G$29 -> 4 | H66: =H$26*H$29 -> 0 | I66: учел F-700 серию
B67: Фрезеровка под петлю F-700 (руб) | E67: =VLOOKUP($B67,$B$258:$C$273,2,FALSE)*E$66 -> 100 | F67: =VLOOKUP($B67,$B$258:$C$273,2,FALSE)*F$66 -> 0 | I67: учел F-700 серию, нужно поправить стоимость в ячейке С259
B68: Фрезеровка под петлю 99/33 (руб) | C68: =VLOOKUP($B68,$B$258:$C$273,2,FALSE)*C$66 -> 264 | D68: =VLOOKUP($B68,$B$258:$C$273,2,FALSE)*D$66 -> 352 | G68: =VLOOKUP($B68,$B$258:$C$273,2,FALSE)*G$66 -> 352 | H68: =VLOOKUP($B68,$B$258:$C$273,2,FALSE)*H$66 -> 0
B69: Отверстие в алюминиевом рамочном профиле 5,10 мм (шт) | C69: =IF(C$9<>"Z-A",C$29*4*2+IF(C$16>0,C$16*8,0),0) -> 0 | D69: =IF(D$9<>"Z-A",D$29*4*2+IF(D$16>0,D$16*8,0),0) -> 8 | E69: =IF(E$9<>"Z-A",E$29*12+IF(E$16>0,E$16*8,0),0) -> 12 | F69: =IF(F$9<>"Z-A",F$29*12+IF(F$16>0,F$16*8,0),0) -> 0 | G69: =IF(G$9<>"Z-A",G$29*4*2+IF(G$16>0,G$16*8,0),0) -> 40 | H69: =IF(H$9<>"Z-A",H$29*4*2+IF(H$16>0,H$16*8,0),0) -> 0 | I69: учел F-700 серию -12отв; учел - х8 отв на соединитель
B70: Отверстие в алюминиевом рамочном профиле 5,10 мм (руб) | C70: =C$69*VLOOKUP($B70,$B$258:$C$273,2,FALSE) -> 0 | D70: =D$69*VLOOKUP($B70,$B$258:$C$273,2,FALSE) -> 352 | E70: =E$69*VLOOKUP($B70,$B$258:$C$273,2,FALSE) -> 528 | F70: =F$69*VLOOKUP($B70,$B$258:$C$273,2,FALSE) -> 0 | G70: =G$69*VLOOKUP($B70,$B$258:$C$273,2,FALSE) -> 1760 | H70: =H$69*VLOOKUP($B70,$B$258:$C$273,2,FALSE) -> 0
B71: Резка профиля под угол 45°/90° (одна деталь 2 реза) (шт) | C71: =IF(C$9<>"Z-A",C$29*4*2,C$29*2*2) -> 4 | D71: =IF(D$9<>"Z-A",D$29*4*2,D$29*2*2) -> 8 | E71: =IF(E$9<>"Z-A",E$29*4*2,E$29*2*2) -> 8 | F71: =IF(F$9<>"Z-A",F$29*4*2,F$29*2*2) -> 0 | G71: =IF(G$9<>"Z-A",G$29*4*2,G$29*2*2) -> 16 | H71: =IF(H$9<>"Z-A",H$29*4*2,H$29*2*2) -> 0
B72: Резка профиля под угол 45° (одна деталь 2 реза) (руб) | C72: =IF(C$9<>"Z-A",VLOOKUP($B72,$B$258:$C$273,2,FALSE)*C$71,0) -> 0 | D72: =IF(D$9<>"Z-A",VLOOKUP($B72,$B$258:$C$273,2,FALSE)*D$71,0) -> 640 | E72: =IF(E$9<>"Z-A",VLOOKUP($B72,$B$258:$C$273,2,FALSE)*E$71,0) -> 640 | F72: =IF(F$9<>"Z-A",VLOOKUP($B72,$B$258:$C$273,2,FALSE)*F$71,0) -> 0 | G72: =IF(G$9<>"Z-A",VLOOKUP($B72,$B$258:$C$273,2,FALSE)*G$71,0) -> 1280 | H72: =IF(H$9<>"Z-A",VLOOKUP($B72,$B$258:$C$273,2,FALSE)*H$71,0) -> 0
B73: Резка профиля под угол 90° (одна деталь 2 реза) (руб) | C73: =IF(C$9="Z-A",VLOOKUP($B73,$B$258:$C$273,2,FALSE)*C$71,0) -> 156 | D73: =IF(D$9="Z-A",VLOOKUP($B73,$B$258:$C$273,2,FALSE)*D$71,0) -> 0 | E73: =IF(E$9="Z-A",VLOOKUP($B73,$B$258:$C$273,2,FALSE)*E$71,0) -> 0 | F73: =IF(F$9="Z-A",VLOOKUP($B73,$B$258:$C$273,2,FALSE)*F$71,0) -> 0 | G73: =IF(G$9="Z-A",VLOOKUP($B73,$B$258:$C$273,2,FALSE)*G$71,0) -> 0 | H73: =IF(H$9="Z-A",VLOOKUP($B73,$B$258:$C$273,2,FALSE)*H$71,0) -> 0
B74: Установка соеденительного профиля 1 шт (руб) 7227 | C74: =IF(C15="7227 для F1-99",VLOOKUP($B74,$B$257:$C$273,2,FALSE),0)*C16*C29 -> 0 | D74: =IF(D15="7227 для F1-99",VLOOKUP($B74,$B$257:$C$273,2,FALSE),0)*D16*D29 -> 0 | E74: =IF(E15="7227 для F1-99",VLOOKUP($B74,$B$257:$C$273,2,FALSE),0)*E16*E29 -> 0 | F74: =IF(F15="7227 для F1-99",VLOOKUP($B74,$B$257:$C$273,2,FALSE),0)*F16*F29 -> 0 | G74: =IF(G15="7227 для F1-99",VLOOKUP($B74,$B$257:$C$273,2,FALSE),0)*G16*G29 -> 0 | H74: =IF(H15="7227 для F1-99",VLOOKUP($B74,$B$257:$C$273,2,FALSE),0)*H16*H29 -> 0
B75: Установка соеденительного профиля 1 шт (руб) 7226 фрез | C75: =IF(C15="7226 для F1-93/793/993",VLOOKUP($B75,$B$257:$C$273,2,FALSE),0)*C16*C29 -> 0 | D75: =IF(D15="7226 для F1-93/793/993",VLOOKUP($B75,$B$257:$C$273,2,FALSE),0)*D16*D29 -> 0 | E75: =IF(E15="7226 для F1-93/793/993",VLOOKUP($B75,$B$257:$C$273,2,FALSE),0)*E16*E29 -> 0 | F75: =IF(F15="7226 для F1-93/793/993",VLOOKUP($B75,$B$257:$C$273,2,FALSE),0)*F16*F29 -> 0 | G75: =IF(G15="7226 для F1-93/793/993",VLOOKUP($B75,$B$257:$C$273,2,FALSE),0)*G16*G29 -> 300 | H75: =IF(H15="7226 для F1-93/793/993",VLOOKUP($B75,$B$257:$C$273,2,FALSE),0)*H16*H29 -> 0
B76: Проверка (шт) | C76: =IF(C$30="Да",0,C29) -> 0 | D76: =IF(D$30="Да",0,D29) -> 0 | E76: =IF(E$30="Да",0,E29) -> 0 | F76: =IF(F$30="Да",0,F29) -> 0 | G76: =IF(G$30="Да",0,G29) -> 2 | H76: =IF(H$30="Да",0,H29) -> 0 | I76: учтена в стоимости при отсутствии сборки
B77: Проверка (руб) | C77: =C76*$C$260 -> 0 | D77: =D76*$C$260 -> 0 | E77: =E76*$C$260 -> 0 | F77: =F76*$C$260 -> 0 | G77: =G76*$C$260 -> 100 | H77: =H76*$C$260 -> 0
B78: Упаковка короб (шт) | C78: =C$32 -> 0 | D78: =D$32 -> 0 | E78: =E$32 -> 0 | F78: =F$32 -> 0 | G78: =G$32 -> 0 | H78: =H$32 -> 0
B79: Упаковка короб (руб) | C79: =VLOOKUP($B79,$B$258:$C$273,2,FALSE)*C78 -> 0 | D79: =VLOOKUP($B79,$B$258:$C$273,2,FALSE)*D78 -> 0 | E79: =VLOOKUP($B79,$B$258:$C$273,2,FALSE)*E78 -> 0 | F79: =VLOOKUP($B79,$B$258:$C$273,2,FALSE)*F78 -> 0 | G79: =VLOOKUP($B79,$B$258:$C$273,2,FALSE)*G78 -> 0 | H79: =VLOOKUP($B79,$B$258:$C$273,2,FALSE)*H78 -> 0
B80: Упаковка ВПП (шт) | C80: =C$29 -> 1 | D80: =D$29 -> 1 | E80: =E$29 -> 1 | F80: =F$29 -> 0 | G80: =G$29 -> 2 | H80: =H$29 -> 0
B81: Упаковка ВПП (руб) | C81: =VLOOKUP($B81,$B$258:$C$273,2,FALSE)*C$80 -> 127 | D81: =VLOOKUP($B81,$B$258:$C$273,2,FALSE)*D$80 -> 127 | E81: =VLOOKUP($B81,$B$258:$C$273,2,FALSE)*E$80 -> 127 | F81: =VLOOKUP($B81,$B$258:$C$273,2,FALSE)*F$80 -> 0 | G81: =VLOOKUP($B81,$B$258:$C$273,2,FALSE)*G$80 -> 254 | H81: =VLOOKUP($B81,$B$258:$C$273,2,FALSE)*H$80 -> 0 | I81: по умолчанию
B82: Упаковка картон (шт) | C82: =IF(C$30="Да",C$41,0) -> 0.319694 | D82: =IF(D$30="Да",D$41,0) -> 0.765072 | E82: =IF(E$30="Да",E$41,0) -> 0.968832 | F82: =IF(F$30="Да",F$41,0) -> 0 | G82: =IF(G$30="Да",G$41,0) -> 0 | H82: =IF(H$30="Да",H$41,0) -> 0
B83: Упаковка картон (руб) | C83: =VLOOKUP($B83,$B$258:$C$273,2,FALSE)*C$82 -> 59.782778 | D83: =VLOOKUP($B83,$B$258:$C$273,2,FALSE)*D$82 -> 143.06846 | E83: =VLOOKUP($B83,$B$258:$C$273,2,FALSE)*E$82 -> 181.17158 | F83: =VLOOKUP($B83,$B$258:$C$273,2,FALSE)*F$82 -> 0 | G83: =VLOOKUP($B83,$B$258:$C$273,2,FALSE)*G$82 -> 0 | H83: =VLOOKUP($B83,$B$258:$C$273,2,FALSE)*H$82 -> 0 | I83: если есть сборка фасада
B90: Тип профиля
B91: F1-99
B92: F1-93
B93: F1-93 NEW
B94: F1-33
B95: F1-33-S
B96: Z-A
B98: F-777
B99: F-793
B100: F-793 с ручкой
B102: F-993
B103: F-993 с ручкой 2х200
... B110: Ширина профиля Z-B
B111: 396
B112: 446
B113: 496
B114: 596
B116: Цвет профиля
B117: Черный
B118: Черный анод
B119: X-Black-Matt
...

Sheet заявка
B1: Заявка к заказу №: | C1: =расчет!C4 -> 0
B2: Дата: | C2: =расчет!C2 -> 46310
B3: Заказчик: | C3: =расчет!C6 -> 0
B5: Профиль | C5: =CONCATENATE(расчет!C9," ",расчет!C11) -> Z-A Латунь | D5: =CONCATENATE(расчет!D9," ",расчет!D11) -> F1-99 X-Black-Matt | E5: =CONCATENATE(расчет!E9," ",расчет!E11) -> F-793 X-Black-Matt | F5: =CONCATENATE(расчет!F9," ",расчет!F11) -> F-793 с ручкой X-Black-Matt | G5: =CONCATENATE(расчет!G9," ",расчет!G11) -> F-993 X-Black-Matt | H5: =CONCATENATE(расчет!H9," ",расчет!H11) -> F-993-L с ручкой 1000 X-Black-Matt
B6: Изображение профиля профиля
B7: Профиль F серии | C7: =IF(расчет!C46=0,"",CONCATENATE(расчет!C46,"м.п.")) | D7: =IF(расчет!D46=0,"",CONCATENATE(расчет!D46,"м.п.")) -> 4,52м.п. | E7: =IF(расчет!E46=0,"",CONCATENATE(расчет!E46,"м.п.")) -> 5,132м.п. | F7: =IF(расчет!F46=0,"",CONCATENATE(расчет!F46,"м.п.")) | G7: =IF(расчет!G46=0,"",CONCATENATE(расчет!G46,"м.п.")) -> 10,264м.п. | H7: =IF(расчет!H46=0,"",CONCATENATE(расчет!H46,"м.п."))
B8: Профиль Z-A | C8: =IF(расчет!C47=0,"",CONCATENATE(расчет!C47,"м.п.")) -> 1,82м.п. | D8: =IF(расчет!D47=0,"",CONCATENATE(расчет!D47,"м.п.")) | E8: =IF(расчет!E47=0,"",CONCATENATE(расчет!E47,"м.п.")) | F8: =IF(расчет!F47=0,"",CONCATENATE(расчет!F47,"м.п.")) | G8: =IF(расчет!G47=0,"",CONCATENATE(расчет!G47,"м.п.")) | H8: =IF(расчет!H47=0,"",CONCATENATE(расчет!H47,"м.п."))
B9: Профиль Z-B | C9: =IF(расчет!C9="Z-A",CONCATENATE(расчет!C29*2,"шт."),"") -> 2шт. | D9: =IF(расчет!D9="Z-A",CONCATENATE(расчет!D29*2,"шт."),"") | E9: =IF(расчет!E9="Z-A",CONCATENATE(расчет!E29*2,"шт."),"") | F9: =IF(расчет!F9="Z-A",CONCATENATE(расчет!F29*2,"шт."),"") | G9: =IF(расчет!G9="Z-A",CONCATENATE(расчет!G29*2,"шт."),"") | H9: =IF(расчет!H9="Z-A",CONCATENATE(расчет!H29*2,"шт."),"")
B10: Профиль соединительный | C10: =IF(расчет!C16>0,CONCATENATE(расчет!C15," ",расчет!C11),"") | D10: =IF(расчет!D16>0,CONCATENATE(расчет!D15," ",расчет!D11),"") | E10: =IF(расчет!E16>0,CONCATENATE(расчет!E15," ",расчет!E11),"") | F10: =IF(расчет!F16>0,CONCATENATE(расчет!F15," ",расчет!F11),"") | G10: =IF(расчет!G16>0,CONCATENATE(расчет!G15," ",расчет!G11),"") -> 7226 для F1-93/793/993 X-Black-Matt | H10: =IF(расчет!H16>0,CONCATENATE(расчет!H15," ",расчет!H11),"")
B11: Стекло МФ Размер (ВхШ) | C11: =IF(расчет!C17=0,IF(расчет!C18=0,"",расчет!C18),расчет!C17) -> Стекло б/ц 4мм | D11: =IF(расчет!D17=0,IF(расчет!D18=0,"",расчет!D18),расчет!D17) -> Стекло Графит (серое) тонированное в массе 4мм | E11: =IF(расчет!E17=0,IF(расчет!E18=0,"",расчет!E18),расчет!E17) -> Стекло Графит (серое) тонированное в массе 4мм | F11: =IF(расчет!F17=0,IF(расчет!F18=0,"",расчет!F18),расчет!F17) -> Стекло Графит (серое) тонированное в массе 4мм | G11: =IF(расчет!G17=0,IF(расчет!G18=0,"",расчет!G18),расчет!G17) | H11: =IF(расчет!H17=0,IF(расчет!H18=0,"",расчет!H18),расчет!H17) -> Стекло Графит (серое) тонированное в массе 4мм
C12: =IF(OR(C11=0,C11=""),"",CONCATENATE(расчет!C39,"х",расчет!C40)) -> 893х358 | D12: =IF(OR(D11=0,D11=""),"",CONCATENATE(расчет!D39,"х",расчет!D40)) -> 1771х432 | E12: =IF(OR(E11=0,E11=""),"",CONCATENATE(расчет!E39,"х",расчет!E40)) -> 2088х464 | F12: =IF(OR(F11=0,F11=""),"",CONCATENATE(расчет!F39,"х",расчет!F40)) -> 1993х393 | G12: =IF(OR(G11=0,G11=""),"",CONCATENATE(расчет!G39,"х",расчет!G40)) | H12: =IF(OR(H11=0,H11=""),"",CONCATENATE(расчет!H39,"х",расчет!H40)) -> 2088х464
B13: Уплотнитель | C13: =IF(расчет!C44=0,"",расчет!C28) -> Прозрачный | D13: =IF(расчет!D44=0,"",расчет!D28) -> Черный | E13: =IF(расчет!E44=0,"",расчет!E28) -> Черный | F13: =IF(расчет!F44=0,"",расчет!F28) | G13: =IF(расчет!G44=0,"",расчет!G28) -> Черный | H13: =IF(расчет!H44=0,"",расчет!H28)
C14: =IF(расчет!C44=0,"",CONCATENATE(расчет!C44,"м.п.")) -> 2,5м.п. | D14: =IF(расчет!D44=0,"",CONCATENATE(расчет!D44,"м.п.")) -> 4,41м.п. | E14: =IF(расчет!E44=0,"",CONCATENATE(расчет!E44,"м.п.")) -> 5,1м.п. | F14: =IF(расчет!F44=0,"",CONCATENATE(расчет!F44,"м.п.")) | G14: =IF(расчет!G44=0,"",CONCATENATE(расчет!G44,"м.п.")) -> 15,78м.п. | H14: =IF(расчет!H44=0,"",CONCATENATE(расчет!H44,"м.п."))
B15: Уголок сборочный | C15: =IF(расчет!C$56=0,"",CONCATENATE(VLOOKUP(расчет!C$9,расчет!$B$243:$D$254,3,FALSE),расчет!C56," шт.")) | D15: =IF(расчет!D$56=0,"",CONCATENATE(VLOOKUP(расчет!D$9,расчет!$B$243:$D$254,3,FALSE),расчет!D56," шт.")) -> F1-99, силумин, 4 шт. | E15: =IF(расчет!E$56=0,"",CONCATENATE(VLOOKUP(расчет!E$9,расчет!$B$243:$D$254,3,FALSE),расчет!E56," шт.")) -> F-700 (2L+2R), 1 шт. | F15: =IF(расчет!F$56=0,"",CONCATENATE(VLOOKUP(расчет!F$9,расчет!$B$243:$D$254,3,FALSE),расчет!F56," шт.")) | G15: =IF(расчет!G$56=0,"",CONCATENATE(VLOOKUP(расчет!G$9,расчет!$B$243:$D$254,3,FALSE),расчет!G56," шт.")) -> F1-99, силумин, 8 шт. | H15: =IF(расчет!H$56=0,"",CONCATENATE(VLOOKUP(расчет!H$9,расчет!$B$243:$D$254,3,FALSE),расчет!H56," шт."))
B16: Винт М4 | C16: =IF(расчет!C50=0,"",CONCATENATE(VLOOKUP(CONCATENATE(расчет!C$9,расчет!C$11),расчет!$B$161:$C$212,2,FALSE),", ",расчет!C50," шт.")) | D16: =IF(расчет!D50=0,"",CONCATENATE(VLOOKUP(CONCATENATE(расчет!D$9,расчет!D$11),расчет!$B$161:$C$212,2,FALSE),", ",расчет!D50," шт.")) -> Винт М4 х 8, потай, черный, 8 шт. | E16: =IF(расчет!E50=0,"",CONCATENATE(VLOOKUP(CONCATENATE(расчет!E$9,расчет!E$11),расчет!$B$161:$C$212,2,FALSE),", ",расчет!E50," шт.")) -> Винт М4 х 8, потай, черный, 12 шт. | F16: =IF(расчет!F50=0,"",CONCATENATE(VLOOKUP(CONCATENATE(расчет!F$9,расчет!F$11),расчет!$B$161:$C$212,2,FALSE),", ",расчет!F50," шт.")) | G16: =IF(расчет!G50=0,"",CONCATENATE(VLOOKUP(CONCATENATE(расчет!G$9,расчет!G$11),расчет!$B$161:$C$212,2,FALSE),", ",расчет!G50," шт.")) -> Винт М4 х 8, потай, черный, 28 шт. | H16: =IF(расчет!H50=0,"",CONCATENATE(VLOOKUP(CONCATENATE(расчет!H$9,расчет!H$11),расчет!$B$161:$C$212,2,FALSE),", ",расчет!H50," шт."))
B17: Коннектор для соединителя | C17: =IF(расчет!C16>0,CONCATENATE(расчет!C16*2,"шт"),"") | D17: =IF(расчет!D16>0,CONCATENATE(расчет!D16*2,"шт"),"") | E17: =IF(расчет!E16>0,CONCATENATE(расчет!E16*2,"шт"),"") | F17: =IF(расчет!F16>0,CONCATENATE(расчет!F16*2,"шт"),"") | G17: =IF(расчет!G16>0,CONCATENATE(расчет!G16*2,"шт"),"") -> 6шт | H17: =IF(расчет!H16>0,CONCATENATE(расчет!H16*2,"шт"),"")
B18: Саморез 3,5мм | C18: =IF(расчет!C54=0,"",CONCATENATE(VLOOKUP(CONCATENATE(расчет!C$9,расчет!C$11),расчет!$B$161:$C$212,2,FALSE),", ",расчет!C54," шт.")) -> Саморез 3,5х25 мм желтый для Z-B, 8 шт. | D18: =IF(расчет!D54=0,"",CONCATENATE(VLOOKUP(CONCATENATE(расчет!D$9,расчет!D$11),расчет!$B$161:$C$212,2,FALSE),", ",расчет!D54," шт.")) | E18: =IF(расчет!E54=0,"",CONCATENATE(VLOOKUP(CONCATENATE(расчет!E$9,расчет!E$11),расчет!$B$161:$C$212,2,FALSE),", ",расчет!E54," шт.")) | F18: =IF(расчет!F54=0,"",CONCATENATE(VLOOKUP(CONCATENATE(расчет!F$9,расчет!F$11),расчет!$B$161:$C$212,2,FALSE),", ",расчет!F54," шт.")) | G18: =IF(расчет!G54=0,"",CONCATENATE(VLOOKUP(CONCATENATE(расчет!G$9,расчет!G$11),расчет!$B$161:$C$212,2,FALSE),", ",расчет!G54," шт.")) | H18: =IF(расчет!H54=0,"",CONCATENATE(VLOOKUP(CONCATENATE(расчет!H$9,расчет!H$11),расчет!$B$161:$C$212,2,FALSE),", ",расчет!H54," шт."))
B19: Количество фасадов | C19: =расчет!C29 -> 1 | D19: =расчет!D29 -> 1 | E19: =расчет!E29 -> 1 | F19: =расчет!F29 -> 0 | G19: =расчет!G29 -> 2 | H19: =расчет!H29 -> 0
B24: Подпись | F24: ФИО

Sheet эскиз
A31: *Заполняется при не симметричном размещении петель!
A32: Тип открывания: | C32: правый
A33: Тип открывания: | C33: левый
